BEGIN:VCALENDAR
VERSION:2.0
PRODID:-//Brenda Freed - ECPv6.15.20//NONSGML v1.0//EN
CALSCALE:GREGORIAN
METHOD:PUBLISH
X-ORIGINAL-URL:https://www.brendafreed.com
X-WR-CALDESC:Events for Brenda Freed
REFRESH-INTERVAL;VALUE=DURATION:PT1H
X-Robots-Tag:noindex
X-PUBLISHED-TTL:PT1H
BEGIN:VTIMEZONE
TZID:UTC
BEGIN:STANDARD
TZOFFSETFROM:+0000
TZOFFSETTO:+0000
TZNAME:UTC
DTSTART:20170101T000000
END:STANDARD
END:VTIMEZONE
BEGIN:VEVENT
DTSTART;TZID=UTC:20220810T193000
DTEND;TZID=UTC:20220810T200000
DTSTAMP:20260423T134205
CREATED:20220410T202911Z
LAST-MODIFIED:20220410T210631Z
UID:840-1660159800-1660161600@www.brendafreed.com
SUMMARY:Him & Her Trio play Mainstage at SPAH Conference\, Tulsa\, OK
DESCRIPTION:
URL:https://www.brendafreed.com/event/him-her-trio-play-mainstage-at-spah-conference-tulsa-ok/
END:VEVENT
BEGIN:VEVENT
DTSTART;TZID=UTC:20220806T180000
DTEND;TZID=UTC:20220806T200000
DTSTAMP:20260423T134205
CREATED:20220410T203746Z
LAST-MODIFIED:20220410T205513Z
UID:844-1659808800-1659816000@www.brendafreed.com
SUMMARY:Him & Her Trio at Pint & Plow\, Kerrville\, TX
DESCRIPTION:
URL:https://www.brendafreed.com/event/him-her-trio-at-pint-plow-kerrville-tx/
END:VEVENT
BEGIN:VEVENT
DTSTART;TZID=UTC:20220625T190000
DTEND;TZID=UTC:20220625T220000
DTSTAMP:20260423T134205
CREATED:20220410T205322Z
LAST-MODIFIED:20220410T210358Z
UID:850-1656183600-1656194400@www.brendafreed.com
SUMMARY:Him & Her Trio at The Club at Baron's CreekSide\, Fredericksburg\, TX
DESCRIPTION:
URL:https://www.brendafreed.com/event/him-her-trio-at-the-club-at-barons-creekside-fredericksburg-tx/
END:VEVENT
BEGIN:VEVENT
DTSTART;TZID=UTC:20220320T120000
DTEND;TZID=UTC:20220320T150000
DTSTAMP:20260423T134205
CREATED:20220224T170430Z
LAST-MODIFIED:20220224T170430Z
UID:782-1647777600-1647788400@www.brendafreed.com
SUMMARY:Him & Her Trio at Das Peach Haus
DESCRIPTION:Das Peach Haus is located at 14506 S US Hwy 87\, Fredericksburg\,TX\n(830) 990-8132 \nFischer & Wieser’s Das Peach Haus is the country store where it all began for Fischer & Wieser Specialty Foods. A true Texas Hill Country treasure offering beautiful outdoor surroundings\, light bites and bakery items\, wine tastings\, and LIVE music on the patio. \nHim & Her Trio will play a unique collection of original music written by the band and other local friends\, and several jazz favorites – all as part of their unique combination of bluesy\, jazzy\, folksy music.
URL:https://www.brendafreed.com/event/him-her-trio-at-das-peach-haus/
END:VEVENT
BEGIN:VEVENT
DTSTART;TZID=UTC:20220306T180000
DTEND;TZID=UTC:20220306T200000
DTSTAMP:20260423T134205
CREATED:20220224T163752Z
LAST-MODIFIED:20220224T170904Z
UID:771-1646589600-1646596800@www.brendafreed.com
SUMMARY:Him & Her Trio at Pint & Plow
DESCRIPTION:Pint & Plow is located at 332 Clay St\, Kerrville\, TX\n(830) 315-7468 \nExcellent food\, top class pub-brewed beer and others beverages\nOutdoor music venue with indoor/outdoor seating \nHim & Her Trio will be opening the spring 2022 season and playing a unique collection of original music written by the band and other local friends\, and several jazz favorites – all as part of their unique combination of bluesy\, jazzy\, folksy music.
URL:https://www.brendafreed.com/event/him-her-trio-at-pint-plow/
END:VEVENT
BEGIN:VEVENT
DTSTART;TZID=UTC:20220226T183000
DTEND;TZID=UTC:20220226T213000
DTSTAMP:20260423T134205
CREATED:20220224T162923Z
LAST-MODIFIED:20220224T170956Z
UID:768-1645900200-1645911000@www.brendafreed.com
SUMMARY:Him & Her Trio at the Club at Baron's CreekSide
DESCRIPTION:The CLUB at Baron’s CreekSide is located at 316 Goehmann Lane\, Fredericksburg\, TX\n(830) 990 4048\nReservations suggested\, but not required \nExcellent Bistro food & local beverages. PLUS\, warm outdoor seating\, blankets\, log fire\, heaters & LIVE music! \nHim & Her Trio will be playing a unique collection of original music written by the band and other local friends\, and several jazz favorites – all as part of their unique combination of bluesy\, jazzy\, folksy music. \n  \n 
URL:https://www.brendafreed.com/event/him-her-trio-at-the-club-at-barons-creekside/
END:VEVENT
BEGIN:VEVENT
DTSTART;TZID=UTC:20210318T133000
DTEND;TZID=UTC:20210318T143000
DTSTAMP:20260423T134205
CREATED:20210318T132745Z
LAST-MODIFIED:20210318T132745Z
UID:763-1616074200-1616077800@www.brendafreed.com
SUMMARY:Joe Filisko & Eric Noden Present Music & Conversation with the Him & Her Trio
DESCRIPTION:
URL:https://www.brendafreed.com/event/joe-filisko-eric-noden-present-music-conversation-with-the-him-her-trio/
LOCATION:Online Concert\, 34Lounge.com\, United States
END:VEVENT
BEGIN:VEVENT
DTSTART;TZID=UTC:20200223T150000
DTEND;TZID=UTC:20200223T170000
DTSTAMP:20260423T134205
CREATED:20190207T203654Z
LAST-MODIFIED:20200112T153057Z
UID:561-1582470000-1582477200@www.brendafreed.com
SUMMARY:Texas Hot Flash Arhaven House Concert
DESCRIPTION:Texas Hot Flash (Brenda Freed\, Amy Cartee and Karen Peters) reunited in 2010 for an Arhaven House Concert and had a blast! We have reunited again and we’re looking forward to this house concert and more performance opportunities going forward.  Arhaven will be a wonderful setting in which to have a NEW Texas Hot Flash experience. Arhaven House Concerts are at the home of Joe and Bev Angel\, just off Highway 71 between Austin and Bastrop. Suggested donation is $15 in advance and $20 at the door. Doors open at 2:30\, show starts at 3:00. RSVP is required.  To RSVP email Joe Angel at houseconcerts@arhaven.org.
URL:https://www.brendafreed.com/event/texas-hot-flash-arhaven-house-concert/
END:VEVENT
BEGIN:VEVENT
DTSTART;TZID=UTC:20200215T070000
DTEND;TZID=UTC:20200215T210000
DTSTAMP:20260423T134205
CREATED:20200112T050909Z
LAST-MODIFIED:20200112T153223Z
UID:704-1581750000-1581800400@www.brendafreed.com
SUMMARY:Him & Her Trio at Tenuto
DESCRIPTION:Him & Her Trio will play the Tenuto Bianco Speghetti Western Wine Bar and Grocer\, 312 Pecan St.\, Blanco\, TX with Jonathan Lee on lead guitar. Come shop\, have a glass of wine and hear some new Him & Her music.
URL:https://www.brendafreed.com/event/him-her-trio-at-tenuto/
END:VEVENT
BEGIN:VEVENT
DTSTART;TZID=UTC:20200209T150000
DTEND;TZID=UTC:20200209T170000
DTSTAMP:20260423T134205
CREATED:20200112T045832Z
LAST-MODIFIED:20200112T153831Z
UID:702-1581260400-1581267600@www.brendafreed.com
SUMMARY:Him & Her House Concert\, Tampa Bay\, FL
DESCRIPTION:Him & Her will be playing a House Concert in Tampa\, FL at the Ritter Ranch\, the home of Alder Allensworth and Ben Ritter. Email: alder0720@tampabay.rr.com to make a reservation.
URL:https://www.brendafreed.com/event/him-her-house-concert-tampa-bay-fl/
END:VEVENT
BEGIN:VEVENT
DTSTART;TZID=UTC:20200118T213000
DTEND;TZID=UTC:20200118T223000
DTSTAMP:20260423T134205
CREATED:20200112T044209Z
LAST-MODIFIED:20200115T160448Z
UID:700-1579383000-1579386600@www.brendafreed.com
SUMMARY:Texas Hot Flash Kyle Fest IX
DESCRIPTION:Texas Hot Flash is one of 16 acts performing at Kyle Fest IX\, Saturday\, January 19\, 3:00-Midnight. Two stages. Texas Hot Flash will wrap up the outdoor stage at 9:30 with an a cappella set.
URL:https://www.brendafreed.com/event/texas-hot-flash-kyle-fest-ix/
LOCATION:Kyle Fest IX\, 7702 Cloudberry Circle\, Austin\, 78745\, United States
END:VEVENT
BEGIN:VEVENT
DTSTART;TZID=UTC:20200117T193000
DTEND;TZID=UTC:20200117T220000
DTSTAMP:20260423T134205
CREATED:20200112T041823Z
LAST-MODIFIED:20200115T160526Z
UID:698-1579289400-1579298400@www.brendafreed.com
SUMMARY:Him & Her at the Club at Barons CreekSide
DESCRIPTION:Barons Creekside is located at 316 Goehmann Lane\, Fredericksburg\, TX\, 830-990-4048. It is a family friendly wine/beer bar with a unique selection of specialty entres and the music of the Him & Her trio with Jonathan Lee on lead guitar. Come hear our new 2020 music and sound!
URL:https://www.brendafreed.com/event/him-her-at-the-club-at-barons-creekside-2/
END:VEVENT
BEGIN:VEVENT
DTSTART;TZID=UTC:20191220T183000
DTEND;TZID=UTC:20191220T210000
DTSTAMP:20260423T134205
CREATED:20190312T203435Z
LAST-MODIFIED:20200112T154125Z
UID:647-1576866600-1576875600@www.brendafreed.com
SUMMARY:Him & Her Annual Christmas Carol Sing-along at the Redbud Cafe
DESCRIPTION:Him & Her will host the annual Christmas Sing-along at the Redbud Cafe. This event is fun for the whole family. Song sheets are provided. Pick a song and we’ll all sing along! Reservations are highly recommended. For reservations call: 830-833-0202
URL:https://www.brendafreed.com/event/him-her-annual-christmas-carol-sing-along-at-the-redbud-cafe/
LOCATION:Redbud Cafe\, 410 4th Street\, Stonewall\, TX\, 78606\, United States
END:VEVENT
BEGIN:VEVENT
DTSTART;TZID=UTC:20191019T200000
DTEND;TZID=UTC:20191019T220000
DTSTAMP:20260423T134205
CREATED:20190808T152844Z
LAST-MODIFIED:20190808T214531Z
UID:685-1571515200-1571522400@www.brendafreed.com
SUMMARY:Sessions On Mary House Concert
DESCRIPTION:
URL:https://www.brendafreed.com/event/sessions-on-mary-house-concert/
END:VEVENT
BEGIN:VEVENT
DTSTART;TZID=UTC:20190824T190000
DTEND;TZID=UTC:20190824T213000
DTSTAMP:20260423T134205
CREATED:20190312T202139Z
LAST-MODIFIED:20190824T140656Z
UID:645-1566673200-1566682200@www.brendafreed.com
SUMMARY:Him & Her at the Redbud Cafe   CANCELLED
DESCRIPTION:
URL:https://www.brendafreed.com/event/him-her-at-the-redbud-cafe-2/
LOCATION:Redbud Cafe\, 410 4th Street\, Stonewall\, TX\, 78606\, United States
END:VEVENT
BEGIN:VEVENT
DTSTART;TZID=UTC:20190813T080000
DTEND;TZID=UTC:20190817T170000
DTSTAMP:20260423T134205
CREATED:20190312T195733Z
LAST-MODIFIED:20190808T214208Z
UID:638-1565683200-1566061200@www.brendafreed.com
SUMMARY:Him & Her attending the SPAH Convention
DESCRIPTION:
URL:https://www.brendafreed.com/event/him-her-attending-the-spah-convention/
LOCATION:Hyatt Regency Tulsa\, 204 Walnut Springs Lane\, -\, Stonewall\, TX\, 78671\, United States
END:VEVENT
BEGIN:VEVENT
DTSTART;TZID=UTC:20190523T080000
DTEND;TZID=UTC:20190609T170000
DTSTAMP:20260423T134205
CREATED:20190312T194224Z
LAST-MODIFIED:20190312T194407Z
UID:634-1558598400-1560099600@www.brendafreed.com
SUMMARY:Him & Her participating in the Kerrville Folk Festival
DESCRIPTION:
URL:https://www.brendafreed.com/event/him-her-participating-in-the-kerrville-folk-festival/
LOCATION:Kerrville Folk Festival\, 3876 Medina Hwy\, Kerrville\, TX\, 78028\, United States
END:VEVENT
BEGIN:VEVENT
DTSTART;VALUE=DATE:20190511
DTEND;VALUE=DATE:20190512
DTSTAMP:20260423T134205
CREATED:20190312T192223Z
LAST-MODIFIED:20190312T200856Z
UID:629-1557532800-1557619199@www.brendafreed.com
SUMMARY:Him & Her at the Rolling Oaks Music Festival in Driftwood\, TX
DESCRIPTION:
URL:https://www.brendafreed.com/event/him-her-at-the-rolling-oaks-music-festival-in-driftwood-tx/
LOCATION:Rolling Oaks\, Driftwood\, TX\, 950 Lonesome Trail\, Driftwood\, TX\, 78619\, United States
END:VEVENT
BEGIN:VEVENT
DTSTART;TZID=UTC:20190510T190000
DTEND;TZID=UTC:20190510T220000
DTSTAMP:20260423T134205
CREATED:20190312T191256Z
LAST-MODIFIED:20190312T191426Z
UID:626-1557514800-1557525600@www.brendafreed.com
SUMMARY:Him & Her at the Club at Barons CreekSide
DESCRIPTION:
URL:https://www.brendafreed.com/event/him-her-at-the-club-at-barons-creekside/
LOCATION:TX\, United States
END:VEVENT
BEGIN:VEVENT
DTSTART;TZID=UTC:20190210T153000
DTEND;TZID=UTC:20190210T161500
DTSTAMP:20260423T134205
CREATED:20190207T195839Z
LAST-MODIFIED:20190207T205535Z
UID:552-1549812600-1549815300@www.brendafreed.com
SUMMARY:Him & Her Perform at KLRU Event
DESCRIPTION:
URL:https://www.brendafreed.com/event/him-her-trio-2/
END:VEVENT
BEGIN:VEVENT
DTSTART;TZID=UTC:20190208T190000
DTEND;TZID=UTC:20190208T220000
DTSTAMP:20260423T134205
CREATED:20190207T195122Z
LAST-MODIFIED:20190207T205832Z
UID:549-1549652400-1549663200@www.brendafreed.com
SUMMARY:Him & Her at The Club at Barons CreekSide in Fredericksburg\, TX
DESCRIPTION:
URL:https://www.brendafreed.com/event/him-her-trio/
END:VEVENT
BEGIN:VEVENT
DTSTART;TZID=UTC:20190130T193000
DTEND;TZID=UTC:20190130T210000
DTSTAMP:20260423T134205
CREATED:20190207T234901Z
LAST-MODIFIED:20190207T234901Z
UID:584-1548876600-1548882000@www.brendafreed.com
SUMMARY:Brenda Freed at Cheatham Street Warehouse
DESCRIPTION:
URL:https://www.brendafreed.com/event/brenda-freed-at-cheatham-street-warehouse/
END:VEVENT
BEGIN:VEVENT
DTSTART;TZID=UTC:20181231T120000
DTEND;TZID=UTC:20181231T200000
DTSTAMP:20260423T134205
CREATED:20190207T212637Z
LAST-MODIFIED:20190207T213438Z
UID:578-1546257600-1546286400@www.brendafreed.com
SUMMARY:Him & Her at FarmTastic 3
DESCRIPTION:
URL:https://www.brendafreed.com/event/him-her-at-farmtastic-3/
END:VEVENT
BEGIN:VEVENT
DTSTART;TZID=UTC:20181222T190000
DTEND;TZID=UTC:20181222T213000
DTSTAMP:20260423T134205
CREATED:20181203T211810Z
LAST-MODIFIED:20190207T211430Z
UID:459-1545505200-1545514200@www.brendafreed.com
SUMMARY:Him & Her Christmas Carol Sing-along at the Redbud Cafe
DESCRIPTION:
URL:https://www.brendafreed.com/event/him-her-at-the-redbud-cafe/
LOCATION:Redbud Cafe\, 410 4th Street\, Stonewall\, TX\, 78606\, United States
END:VEVENT
END:VCALENDAR